BEGIN:VCALENDAR
VERSION:2.0
PRODID:-//eventon.com NONSGML v1.0//EN
CALSCALE:GREGORIAN
METHOD:PUBLISH
BEGIN:VEVENT
UID:69ed45674e18b
DTSTAMP:20260425T225119Z
DTSTART:20260613
DTEND:20260614
LOCATION:
SUMMARY:Balanceos
DESCRIPTION:Balanceos\nhttps://luz-natural-mente.com/blog/events/balanceos-
 13/
URL:https://luz-natural-mente.com/blog/events/balanceos-13/
END:VEVENT
END:VCALENDAR